BEGIN:VCALENDAR
VERSION:2.0
PRODID:-//The Twinbrook School of Ballet - ECPv6.15.3//NONSGML v1.0//EN
CALSCALE:GREGORIAN
METHOD:PUBLISH
X-WR-CALNAME:The Twinbrook School of Ballet
X-ORIGINAL-URL:https://twinbrookschoolofballet.com
X-WR-CALDESC:Events for The Twinbrook School of Ballet
REFRESH-INTERVAL;VALUE=DURATION:PT1H
X-Robots-Tag:noindex
X-PUBLISHED-TTL:PT1H
BEGIN:VTIMEZONE
TZID:America/New_York
BEGIN:DAYLIGHT
TZOFFSETFROM:-0500
TZOFFSETTO:-0400
TZNAME:EDT
DTSTART:20180311T070000
END:DAYLIGHT
BEGIN:STANDARD
TZOFFSETFROM:-0400
TZOFFSETTO:-0500
TZNAME:EST
DTSTART:20181104T060000
END:STANDARD
BEGIN:DAYLIGHT
TZOFFSETFROM:-0500
TZOFFSETTO:-0400
TZNAME:EDT
DTSTART:20190310T070000
END:DAYLIGHT
BEGIN:STANDARD
TZOFFSETFROM:-0400
TZOFFSETTO:-0500
TZNAME:EST
DTSTART:20191103T060000
END:STANDARD
BEGIN:DAYLIGHT
TZOFFSETFROM:-0500
TZOFFSETTO:-0400
TZNAME:EDT
DTSTART:20200308T070000
END:DAYLIGHT
BEGIN:STANDARD
TZOFFSETFROM:-0400
TZOFFSETTO:-0500
TZNAME:EST
DTSTART:20201101T060000
END:STANDARD
END:VTIMEZONE
BEGIN:VEVENT
DTSTART;TZID=America/New_York:20200329T120000
DTEND;TZID=America/New_York:20200329T170000
DTSTAMP:20260423T153418
CREATED:20200306T185145Z
LAST-MODIFIED:20200306T185145Z
UID:384-1585483200-1585501200@twinbrookschoolofballet.com
SUMMARY:THE ROAYAL ACADEMY OF DANCE 2020 GRADED EXAMINATIONS
DESCRIPTION:RAD Examinations will be held at the AYRLAWN PROGRAM Center of the YMCA at 5650 OAKMONT Avenue\, Bethesda\, MD 20817 on SUNDAY MARCH 29\, 2020.  ALL Students should be at the Center by 12:00 Noon on Sunday March 29\, 2020 with proper leotard\, tights\, shoes.  Hair must be secured in a classical fashion with a bun at the nape of the neck. No jewelry or make-up.
URL:https://twinbrookschoolofballet.com/event/the-roayal-academy-of-dance-2020-graded-examinations/
LOCATION:The Ayrlawn Program Center of the YMCA\, 5680 Oakmont Ave\, Bethesda\, MD\, 20817\, United States
ORGANIZER;CN="The Twinbrook School of Ballet":MAILTO:peblake2@verizon.net
END:VEVENT
BEGIN:VEVENT
DTSTART;TZID=America/New_York:20200315T120000
DTEND;TZID=America/New_York:20200315T170000
DTSTAMP:20260423T153418
CREATED:20200306T184700Z
LAST-MODIFIED:20200306T184700Z
UID:382-1584273600-1584291600@twinbrookschoolofballet.com
SUMMARY:THE ROYAL ACADEMY OF DANCE 2020 GRADED EXAMINATIONS REHEARSAL
DESCRIPTION:The Royal Academy of Dance 2020 Graded Examinations will begin in March\, 2020 for the Northeastern section of the US.  Both Students and Teacher are truly excited for this upcoming event! Examination Day is a very special occasion for all of our Royal Academy of Dance Students. We have worked long and hard to prepare for this and a very qualified examiner will observe each students’ dancing and determine how she measures up with the RAD standards. \nIn final preparation for the exams\, Twinbrook School of Ballet Director\, Phyllis Blake\, RAD RTS\, will conduct two Sunday rehearsal sessions to be held on March 8th and March 15th at The Ayrlawn Program Center of the YMCA in Bethesda MD\, 5630 Oakmont Avenue which is also the RAD AEC (Approved Examination Center). \nPLEASE NOTE:  RAD Examinations will be held at the AYRLAWN PROGRAM Center of the YMCA at 5650 OAKMONT Avenue\, Bethesda\, MD 20817 on SUNDAY MARCH 29\, 2020.  ALL Students should be at the Center by 12:00 Noon on Sunday March 29\, 2020 with proper leotard\, tights\, shoes.  Hair must be secured in a classical fashion with a bun at the nape of the neck. No jewelry or make-up.
URL:https://twinbrookschoolofballet.com/event/the-royal-academy-of-dance-2020-graded-examinations-rehearsal/
LOCATION:The Ayrlawn Program Center of the YMCA\, 5680 Oakmont Ave\, Bethesda\, MD\, 20817\, United States
ORGANIZER;CN="The Twinbrook School of Ballet":MAILTO:peblake2@verizon.net
END:VEVENT
BEGIN:VEVENT
DTSTART;TZID=America/New_York:20200308T120000
DTEND;TZID=America/New_York:20200308T170000
DTSTAMP:20260423T153418
CREATED:20200306T184000Z
LAST-MODIFIED:20200306T185234Z
UID:377-1583668800-1583686800@twinbrookschoolofballet.com
SUMMARY:THE ROYAL ACADEMY OF DANCE 2020 GRADED EXAMINATIONS REHEARSAL
DESCRIPTION:The Royal Academy of Dance 2020 Graded Examinations will begin in March\, 2020 for the Northeastern section of the US.  Both Students and Teacher are truly excited for this upcoming event! Examination Day is a very special occasion for all of our Royal Academy of Dance Students. We have worked long and hard to prepare for this and a very qualified examiner will observe each students’ dancing and determine how she measures up with the RAD standards. \nIn final preparation for the exams\, Twinbrook School of Ballet Director\, Phyllis Blake\, RAD RTS\, will conduct two Sunday rehearsal sessions to be held on March 8th and March 15th at The Ayrlawn Program Center of the YMCA in Bethesda MD\, 5630 Oakmont Avenue which is also the RAD AEC (Approved Examination Center). \nPLEASE NOTE:  RAD Examinations will be held at the AYRLAWN PROGRAM Center of the YMCA at 5650 OAKMONT Avenue\, Bethesda\, MD 20817 on SUNDAY MARCH 29\, 2020.  ALL Students should be at the Center by 12:00 Noon on Sunday March 29\, 2020 with proper leotard\, tights\, shoes.  Hair must be secured in a classical fashion with a bun at the nape of the neck. No jewelry or make-up.
URL:https://twinbrookschoolofballet.com/event/the-royal-academy-of-dance-2020-graded-examinations/
LOCATION:The Ayrlawn Program Center of the YMCA\, 5680 Oakmont Ave\, Bethesda\, MD\, 20817\, United States
ORGANIZER;CN="The Twinbrook School of Ballet":MAILTO:peblake2@verizon.net
END:VEVENT
BEGIN:VEVENT
DTSTART;TZID=America/New_York:20191224T073000
DTEND;TZID=America/New_York:20191224T203000
DTSTAMP:20260423T153418
CREATED:20191207T234408Z
LAST-MODIFIED:20191207T234408Z
UID:369-1577172600-1577219400@twinbrookschoolofballet.com
SUMMARY:Performance for TCC Christmas Eve Service\, December 24\, 2019
DESCRIPTION:The Twinbrook School of Ballet advanced students will be performing for the Christmas Eve service\, 7:30 pm on December 24\, 2109 at the Twinbrook Community Church\, 5906 Halpine Rd\, Rockville\, MD 20851.  Performers should arrive at 6:00 pm.
URL:https://twinbrookschoolofballet.com/event/performance-for-tcc-christmas-eve-service-december-24-2019/
LOCATION:Twinbrook Community Church\, 5906 Halpine Rd\, Rockville\, MD 20851\, 5906 Halpine Rd\, Rockville\, MD\, 20851\, United States
ORGANIZER;CN="The Twinbrook School of Ballet":MAILTO:peblake2@verizon.net
END:VEVENT
BEGIN:VEVENT
DTSTART;TZID=America/New_York:20191214T180000
DTEND;TZID=America/New_York:20191214T200000
DTSTAMP:20260423T153418
CREATED:20191207T233645Z
LAST-MODIFIED:20191207T233645Z
UID:362-1576346400-1576353600@twinbrookschoolofballet.com
SUMMARY:International Caroling Concert hosted by Twinbrook Community Church
DESCRIPTION:The Twinbrook Community Church’s International Caroling Concert will be held on Saturday evening\, December 14\, 2019 at 6:00 pm.  It is an exciting evening with diverse chruches participating.  Our students from the The Twinbrook School of Ballet are participating through the auspices of the Twinbrook Community Church. The students will be dancing two pieces from Tschaikovsky’s Nutcracker Suite: \nCandy Canes (Russian Trepak)\nChristmas Waltz (Finale Waltz from Act II)
URL:https://twinbrookschoolofballet.com/event/international-caroling-concert-hosted-by-twinbrook-community-church/
LOCATION:Twinbrook Community Church\, 5906 Halpine Rd\, Rockville\, MD 20851\, 5906 Halpine Rd\, Rockville\, MD\, 20851\, United States
ORGANIZER;CN="The Twinbrook School of Ballet":MAILTO:peblake2@verizon.net
END:VEVENT
BEGIN:VEVENT
DTSTART;TZID=America/New_York:20190824T120000
DTEND;TZID=America/New_York:20190824T170000
DTSTAMP:20260423T153418
CREATED:20190820T023000Z
LAST-MODIFIED:20190820T023000Z
UID:320-1566648000-1566666000@twinbrookschoolofballet.com
SUMMARY:OPEN HOUSE SATURDAY 8/24
DESCRIPTION:Your 1st Step Starts Here!  Open House Saturday at the Twinbrook School of Ballet\, 12801 Ardennes Ave.\, Rockville MD 20851   Phone No.  301-770-3038\nYour 1st Step Starts Here!
URL:https://twinbrookschoolofballet.com/event/open-house-saturday-8-24/
LOCATION:Twinbrook School of Ballet\, 12801 Ardennes Avenue\, Rockville\, MD\, 20851\, United States
ORGANIZER;CN="The Twinbrook School of Ballet":MAILTO:peblake2@verizon.net
END:VEVENT
BEGIN:VEVENT
DTSTART;TZID=America/New_York:20190624T190000
DTEND;TZID=America/New_York:20190707T213000
DTSTAMP:20260423T153418
CREATED:20190610T175422Z
LAST-MODIFIED:20190610T180230Z
UID:273-1561402800-1562535000@twinbrookschoolofballet.com
SUMMARY:SPECIAL VAGONOVA  SUMMER INTENSIVE
DESCRIPTION:The Twinbrook School of Ballet announces the Special Vagonova Summer Intensive for students 11 years and older.
URL:https://twinbrookschoolofballet.com/event/special-vagonova-summer-intensive/
LOCATION:Twinbrook School of Ballet\, 12801 Ardennes Avenue\, Rockville\, MD\, 20851\, United States
ORGANIZER;CN="The Twinbrook School of Ballet":MAILTO:peblake2@verizon.net
END:VEVENT
BEGIN:VEVENT
DTSTART;TZID=America/New_York:20190624T100000
DTEND;TZID=America/New_York:20190707T120000
DTSTAMP:20260423T153418
CREATED:20190609T202821Z
LAST-MODIFIED:20190610T180150Z
UID:275-1561370400-1562500800@twinbrookschoolofballet.com
SUMMARY:SWAN LAKE BALLET CAMP
DESCRIPTION:The Twinbrook School of Ballet announces the SWAN LAKE BALLET CAMP FOR STUDENTS 5 AND UP.  Ballet class–With related arts and crafts\, learn about the great balletsFor two weeks only June 24-July 7\, 2019 \n3 Mornings a week from 10-12 Noon (Monday-Wednesday-Friday)\n10:00-11:00 Ballet; 11:00-11:30 related arts and crafts\, 11:30-12:00 Stories of the great ballets and pantomime. \nTuition: $75.00 per week \nTaught by Phyllis Blake and Michelle Turner-Goldsmith
URL:https://twinbrookschoolofballet.com/event/swan-lake-ballet-camp/
LOCATION:Twinbrook School of Ballet\, 12801 Ardennes Avenue\, Rockville\, MD\, 20851\, United States
ORGANIZER;CN="The Twinbrook School of Ballet":MAILTO:peblake2@verizon.net
END:VEVENT
BEGIN:VEVENT
DTSTART;TZID=America/New_York:20190615T153000
DTEND;TZID=America/New_York:20190615T170000
DTSTAMP:20260423T153418
CREATED:20190609T193717Z
LAST-MODIFIED:20190610T175747Z
UID:267-1560612600-1560618000@twinbrookschoolofballet.com
SUMMARY:BALLET MATINEE -- Saturday\, June 15. 2019 @ 3:30 p.m.\, Admission free
DESCRIPTION:“Ballet Matinee”– The annual ballet demonstation and performance at Bender Jewish Community Center\, Rockville\, MD 20852 to be held on Saturday June 15\, 2019 at 3:30 p.m.  Admission is FREE
URL:https://twinbrookschoolofballet.com/event/ballet-matinee-saturday-june-15-2019-330-p-m-admission-free/
LOCATION:Kruger Theater (Bender Jewish Community Center of Greater Washington\, 6125 Montrose Rd\, Rockville\, MD\, 20852\, United States
ORGANIZER;CN="The Twinbrook School of Ballet":MAILTO:peblake2@verizon.net
END:VEVENT
BEGIN:VEVENT
DTSTART;VALUE=DATE:20180910
DTEND;VALUE=DATE:20180911
DTSTAMP:20260423T153418
CREATED:20180829T011435Z
LAST-MODIFIED:20180829T011435Z
UID:251-1536537600-1536623999@twinbrookschoolofballet.com
SUMMARY:Classical Ballet Training for Children\, Teens & Adults
DESCRIPTION:September 10th\, Fall Classes begin for the 2018 – 2019  in all levels
URL:https://twinbrookschoolofballet.com/event/classical-ballet-training-for-children-teens-adults/
LOCATION:Twinbrook School of Ballet\, 12801 Ardennes Avenue\, Rockville\, MD\, 20851\, United States
END:VEVENT
BEGIN:VEVENT
DTSTART;VALUE=DATE:20180801
DTEND;VALUE=DATE:20180911
DTSTAMP:20260423T153418
CREATED:20180829T011512Z
LAST-MODIFIED:20180829T011512Z
UID:259-1533081600-1536623999@twinbrookschoolofballet.com
SUMMARY:Registration for Fall 2018
DESCRIPTION:Registration for Fall 2018 classes begins August 1 and is ongoing.  New students call for registration appointments.  Former students register by phone.
URL:https://twinbrookschoolofballet.com/event/registration-for-fall-2018/
LOCATION:Twinbrook School of Ballet\, 12801 Ardennes Avenue\, Rockville\, MD\, 20851\, United States
END:VEVENT
BEGIN:VEVENT
DTSTART;TZID=America/New_York:20180719T190000
DTEND;TZID=America/New_York:20180719T203000
DTSTAMP:20260423T153418
CREATED:20180625T000306Z
LAST-MODIFIED:20180625T000306Z
UID:227-1532026800-1532032200@twinbrookschoolofballet.com
SUMMARY:RAD SUMMERDANCE BALLET INTENSIVE
DESCRIPTION:RAD Intermediate & Advanced Ballet (11 & Up)
URL:https://twinbrookschoolofballet.com/event/rad-summerdance-ballet-intensive-31/
LOCATION:Twinbrook School of Ballet\, 12801 Ardennes Avenue\, Rockville\, MD\, 20851\, United States
ORGANIZER;CN="The Twinbrook School of Ballet":MAILTO:peblake2@verizon.net
END:VEVENT
BEGIN:VEVENT
DTSTART;TZID=America/New_York:20180719T180000
DTEND;TZID=America/New_York:20180719T190000
DTSTAMP:20260423T153418
CREATED:20180625T000425Z
LAST-MODIFIED:20180625T000425Z
UID:229-1532023200-1532026800@twinbrookschoolofballet.com
SUMMARY:RAD SUMMERDANCE BALLET INTENSIVE
DESCRIPTION:Pointe (elementary) (M\,Th)
URL:https://twinbrookschoolofballet.com/event/rad-summerdance-ballet-intensive-32/
LOCATION:Twinbrook School of Ballet\, 12801 Ardennes Avenue\, Rockville\, MD\, 20851\, United States
ORGANIZER;CN="The Twinbrook School of Ballet":MAILTO:peblake2@verizon.net
END:VEVENT
BEGIN:VEVENT
DTSTART;TZID=America/New_York:20180719T170000
DTEND;TZID=America/New_York:20180719T180000
DTSTAMP:20260423T153418
CREATED:20180625T000603Z
LAST-MODIFIED:20180625T000603Z
UID:231-1532019600-1532023200@twinbrookschoolofballet.com
SUMMARY:RAD SUMMERDANCE BALLET INTENSIVE
DESCRIPTION:RAD Grade One (ballet\, character) (7 & up)
URL:https://twinbrookschoolofballet.com/event/rad-summerdance-ballet-intensive-33/
LOCATION:Twinbrook School of Ballet\, 12801 Ardennes Avenue\, Rockville\, MD\, 20851\, United States
ORGANIZER;CN="The Twinbrook School of Ballet":MAILTO:peblake2@verizon.net
END:VEVENT
BEGIN:VEVENT
DTSTART;TZID=America/New_York:20180718T190000
DTEND;TZID=America/New_York:20180718T203000
DTSTAMP:20260423T153418
CREATED:20180625T000054Z
LAST-MODIFIED:20180625T000054Z
UID:225-1531940400-1531945800@twinbrookschoolofballet.com
SUMMARY:RAD SUMMERDANCE BALLET INTENSIVE
DESCRIPTION:RAD Intermediate & Advanced Ballet (11 & Up)
URL:https://twinbrookschoolofballet.com/event/rad-summerdance-ballet-intensive-30/
LOCATION:Twinbrook School of Ballet\, 12801 Ardennes Avenue\, Rockville\, MD\, 20851\, United States
ORGANIZER;CN="The Twinbrook School of Ballet":MAILTO:peblake2@verizon.net
END:VEVENT
BEGIN:VEVENT
DTSTART;TZID=America/New_York:20180718T180000
DTEND;TZID=America/New_York:20180718T190000
DTSTAMP:20260423T153418
CREATED:20180624T193536Z
LAST-MODIFIED:20180624T193536Z
UID:164-1531936800-1531940400@twinbrookschoolofballet.com
SUMMARY:RAD SUMMERDANCE BALLET INTENSIVE
DESCRIPTION:Contemporary Class (Wednesday)
URL:https://twinbrookschoolofballet.com/event/rad-summerdance-ballet-intensive-5/
LOCATION:Twinbrook School of Ballet\, 12801 Ardennes Avenue\, Rockville\, MD\, 20851\, United States
ORGANIZER;CN="The Twinbrook School of Ballet":MAILTO:peblake2@verizon.net
END:VEVENT
BEGIN:VEVENT
DTSTART;TZID=America/New_York:20180718T170000
DTEND;TZID=America/New_York:20180718T180000
DTSTAMP:20260423T153418
CREATED:20180624T235907Z
LAST-MODIFIED:20180624T235907Z
UID:223-1531933200-1531936800@twinbrookschoolofballet.com
SUMMARY:RAD SUMMERDANCE BALLET INTENSIVE
DESCRIPTION:RAD Grade One (ballet\, character) (7 & up)
URL:https://twinbrookschoolofballet.com/event/rad-summerdance-ballet-intensive-29/
LOCATION:Twinbrook School of Ballet\, 12801 Ardennes Avenue\, Rockville\, MD\, 20851\, United States
ORGANIZER;CN="The Twinbrook School of Ballet":MAILTO:peblake2@verizon.net
END:VEVENT
BEGIN:VEVENT
DTSTART;TZID=America/New_York:20180716T190000
DTEND;TZID=America/New_York:20180716T203000
DTSTAMP:20260423T153418
CREATED:20180624T235445Z
LAST-MODIFIED:20180624T235445Z
UID:221-1531767600-1531773000@twinbrookschoolofballet.com
SUMMARY:RAD SUMMERDANCE BALLET INTENSIVE
DESCRIPTION:RAD Intermediate & Advanced Ballet (11 & Up)
URL:https://twinbrookschoolofballet.com/event/rad-summerdance-ballet-intensive-28/
LOCATION:Twinbrook School of Ballet\, 12801 Ardennes Avenue\, Rockville\, MD\, 20851\, United States
ORGANIZER;CN="The Twinbrook School of Ballet":MAILTO:peblake2@verizon.net
END:VEVENT
BEGIN:VEVENT
DTSTART;TZID=America/New_York:20180716T180000
DTEND;TZID=America/New_York:20180716T190000
DTSTAMP:20260423T153418
CREATED:20180624T234823Z
LAST-MODIFIED:20180624T234823Z
UID:219-1531764000-1531767600@twinbrookschoolofballet.com
SUMMARY:RAD SUMMERDANCE BALLET INTENSIVE
DESCRIPTION:Pointe (elementary) (M\,Th)
URL:https://twinbrookschoolofballet.com/event/rad-summerdance-ballet-intensive-27/
LOCATION:Twinbrook School of Ballet\, 12801 Ardennes Avenue\, Rockville\, MD\, 20851\, United States
ORGANIZER;CN="The Twinbrook School of Ballet":MAILTO:peblake2@verizon.net
END:VEVENT
BEGIN:VEVENT
DTSTART;TZID=America/New_York:20180716T170000
DTEND;TZID=America/New_York:20180716T180000
DTSTAMP:20260423T153418
CREATED:20180624T234349Z
LAST-MODIFIED:20180624T234349Z
UID:217-1531760400-1531764000@twinbrookschoolofballet.com
SUMMARY:RAD SUMMERDANCE BALLET INTENSIVE
DESCRIPTION:RAD Grade One (ballet\, character) (7 & up)
URL:https://twinbrookschoolofballet.com/event/rad-summerdance-ballet-intensive-26/
LOCATION:Twinbrook School of Ballet\, 12801 Ardennes Avenue\, Rockville\, MD\, 20851\, United States
ORGANIZER;CN="The Twinbrook School of Ballet":MAILTO:peblake2@verizon.net
END:VEVENT
BEGIN:VEVENT
DTSTART;TZID=America/New_York:20180712T190000
DTEND;TZID=America/New_York:20180712T203000
DTSTAMP:20260423T153418
CREATED:20180624T233755Z
LAST-MODIFIED:20180624T233755Z
UID:215-1531422000-1531427400@twinbrookschoolofballet.com
SUMMARY:RAD SUMMERDANCE BALLET INTENSIVE
DESCRIPTION:RAD Intermediate & Advanced Ballet (11 & Up)
URL:https://twinbrookschoolofballet.com/event/rad-summerdance-ballet-intensive-25/
LOCATION:Twinbrook School of Ballet\, 12801 Ardennes Avenue\, Rockville\, MD\, 20851\, United States
ORGANIZER;CN="The Twinbrook School of Ballet":MAILTO:peblake2@verizon.net
END:VEVENT
BEGIN:VEVENT
DTSTART;TZID=America/New_York:20180712T180000
DTEND;TZID=America/New_York:20180712T190000
DTSTAMP:20260423T153418
CREATED:20180624T233616Z
LAST-MODIFIED:20180624T233616Z
UID:213-1531418400-1531422000@twinbrookschoolofballet.com
SUMMARY:RAD SUMMERDANCE BALLET INTENSIVE
DESCRIPTION:Pointe (elementary) (M\,Th)
URL:https://twinbrookschoolofballet.com/event/rad-summerdance-ballet-intensive-24/
LOCATION:Twinbrook School of Ballet\, 12801 Ardennes Avenue\, Rockville\, MD\, 20851\, United States
ORGANIZER;CN="The Twinbrook School of Ballet":MAILTO:peblake2@verizon.net
END:VEVENT
BEGIN:VEVENT
DTSTART;TZID=America/New_York:20180712T170000
DTEND;TZID=America/New_York:20180712T180000
DTSTAMP:20260423T153418
CREATED:20180624T233421Z
LAST-MODIFIED:20180624T233421Z
UID:211-1531414800-1531418400@twinbrookschoolofballet.com
SUMMARY:RAD SUMMERDANCE BALLET INTENSIVE
DESCRIPTION:RAD Grade One (ballet\, character) (7 & up)
URL:https://twinbrookschoolofballet.com/event/rad-summerdance-ballet-intensive-23/
LOCATION:Twinbrook School of Ballet\, 12801 Ardennes Avenue\, Rockville\, MD\, 20851\, United States
ORGANIZER;CN="The Twinbrook School of Ballet":MAILTO:peblake2@verizon.net
END:VEVENT
BEGIN:VEVENT
DTSTART;TZID=America/New_York:20180711T190000
DTEND;TZID=America/New_York:20180711T203000
DTSTAMP:20260423T153418
CREATED:20180624T213157Z
LAST-MODIFIED:20180624T213157Z
UID:187-1531335600-1531341000@twinbrookschoolofballet.com
SUMMARY:RAD SUMMERDANCE BALLET INTENSIVE
DESCRIPTION:RAD Intermediate & Advanced Ballet (11 & Up)
URL:https://twinbrookschoolofballet.com/event/rad-summerdance-ballet-intensive-13/
LOCATION:Twinbrook School of Ballet\, 12801 Ardennes Avenue\, Rockville\, MD\, 20851\, United States
ORGANIZER;CN="The Twinbrook School of Ballet":MAILTO:peblake2@verizon.net
END:VEVENT
BEGIN:VEVENT
DTSTART;TZID=America/New_York:20180711T180000
DTEND;TZID=America/New_York:20180711T190000
DTSTAMP:20260423T153418
CREATED:20180624T212725Z
LAST-MODIFIED:20180624T212725Z
UID:184-1531332000-1531335600@twinbrookschoolofballet.com
SUMMARY:RAD SUMMERDANCE BALLET INTENSIVE
DESCRIPTION:Contemporary Class (Wednesday)
URL:https://twinbrookschoolofballet.com/event/rad-summerdance-ballet-intensive-12/
LOCATION:Twinbrook School of Ballet\, 12801 Ardennes Avenue\, Rockville\, MD\, 20851\, United States
ORGANIZER;CN="The Twinbrook School of Ballet":MAILTO:peblake2@verizon.net
END:VEVENT
BEGIN:VEVENT
DTSTART;TZID=America/New_York:20180711T170000
DTEND;TZID=America/New_York:20180711T180000
DTSTAMP:20260423T153418
CREATED:20180624T193321Z
LAST-MODIFIED:20180624T212933Z
UID:162-1531328400-1531332000@twinbrookschoolofballet.com
SUMMARY:RAD SUMMERDANCE BALLET INTENSIVE
DESCRIPTION:RAD Grade One (ballet\, character) (7 & up)
URL:https://twinbrookschoolofballet.com/event/rad-summerdance-ballet-intensive-4/
LOCATION:Twinbrook School of Ballet\, 12801 Ardennes Avenue\, Rockville\, MD\, 20851\, United States
ORGANIZER;CN="The Twinbrook School of Ballet":MAILTO:peblake2@verizon.net
END:VEVENT
BEGIN:VEVENT
DTSTART;TZID=America/New_York:20180709T190000
DTEND;TZID=America/New_York:20180709T203000
DTSTAMP:20260423T153418
CREATED:20180624T232821Z
LAST-MODIFIED:20180624T232821Z
UID:207-1531162800-1531168200@twinbrookschoolofballet.com
SUMMARY:RAD SUMMERDANCE BALLET INTENSIVE
DESCRIPTION:RAD Intermediate & Advanced Ballet (11 & Up)
URL:https://twinbrookschoolofballet.com/event/rad-summerdance-ballet-intensive-22/
LOCATION:Twinbrook School of Ballet\, 12801 Ardennes Avenue\, Rockville\, MD\, 20851\, United States
ORGANIZER;CN="The Twinbrook School of Ballet":MAILTO:peblake2@verizon.net
END:VEVENT
BEGIN:VEVENT
DTSTART;TZID=America/New_York:20180709T180000
DTEND;TZID=America/New_York:20180709T190000
DTSTAMP:20260423T153418
CREATED:20180624T232540Z
LAST-MODIFIED:20180624T232540Z
UID:205-1531159200-1531162800@twinbrookschoolofballet.com
SUMMARY:RAD SUMMERDANCE BALLET INTENSIVE
DESCRIPTION:Pointe (elementary) (M\,Th)
URL:https://twinbrookschoolofballet.com/event/rad-summerdance-ballet-intensive-21/
LOCATION:Twinbrook School of Ballet\, 12801 Ardennes Avenue\, Rockville\, MD\, 20851\, United States
ORGANIZER;CN="The Twinbrook School of Ballet":MAILTO:peblake2@verizon.net
END:VEVENT
BEGIN:VEVENT
DTSTART;TZID=America/New_York:20180709T170000
DTEND;TZID=America/New_York:20180709T180000
DTSTAMP:20260423T153418
CREATED:20180624T232354Z
LAST-MODIFIED:20180624T232354Z
UID:203-1531155600-1531159200@twinbrookschoolofballet.com
SUMMARY:RAD SUMMERDANCE BALLET INTENSIVE
DESCRIPTION:RAD Grade One (ballet\, character) (7 & up)
URL:https://twinbrookschoolofballet.com/event/rad-summerdance-ballet-intensive-20/
LOCATION:Twinbrook School of Ballet\, 12801 Ardennes Avenue\, Rockville\, MD\, 20851\, United States
ORGANIZER;CN="The Twinbrook School of Ballet":MAILTO:peblake2@verizon.net
END:VEVENT
BEGIN:VEVENT
DTSTART;TZID=America/New_York:20180705T190000
DTEND;TZID=America/New_York:20180705T203000
DTSTAMP:20260423T153418
CREATED:20180624T231439Z
LAST-MODIFIED:20180624T231439Z
UID:201-1530817200-1530822600@twinbrookschoolofballet.com
SUMMARY:RAD SUMMERDANCE BALLET INTENSIVE
DESCRIPTION:RAD Intermediate & Advanced Ballet (11 & Up)
URL:https://twinbrookschoolofballet.com/event/rad-summerdance-ballet-intensive-19/
LOCATION:Twinbrook School of Ballet\, 12801 Ardennes Avenue\, Rockville\, MD\, 20851\, United States
ORGANIZER;CN="The Twinbrook School of Ballet":MAILTO:peblake2@verizon.net
END:VEVENT
END:VCALENDAR