BEGIN:VCALENDAR
VERSION:2.0
PRODID:-//The Twinbrook School of Ballet - ECPv6.15.3//NONSGML v1.0//EN
CALSCALE:GREGORIAN
METHOD:PUBLISH
X-WR-CALNAME:The Twinbrook School of Ballet
X-ORIGINAL-URL:https://twinbrookschoolofballet.com
X-WR-CALDESC:Events for The Twinbrook School of Ballet
REFRESH-INTERVAL;VALUE=DURATION:PT1H
X-Robots-Tag:noindex
X-PUBLISHED-TTL:PT1H
BEGIN:VTIMEZONE
TZID:America/New_York
BEGIN:DAYLIGHT
TZOFFSETFROM:-0500
TZOFFSETTO:-0400
TZNAME:EDT
DTSTART:20170312T070000
END:DAYLIGHT
BEGIN:STANDARD
TZOFFSETFROM:-0400
TZOFFSETTO:-0500
TZNAME:EST
DTSTART:20171105T060000
END:STANDARD
BEGIN:DAYLIGHT
TZOFFSETFROM:-0500
TZOFFSETTO:-0400
TZNAME:EDT
DTSTART:20180311T070000
END:DAYLIGHT
BEGIN:STANDARD
TZOFFSETFROM:-0400
TZOFFSETTO:-0500
TZNAME:EST
DTSTART:20181104T060000
END:STANDARD
END:VTIMEZONE
BEGIN:VEVENT
DTSTART;TZID=America/New_York:20180712T190000
DTEND;TZID=America/New_York:20180712T203000
DTSTAMP:20260423T170545
CREATED:20180624T233755Z
LAST-MODIFIED:20180624T233755Z
UID:215-1531422000-1531427400@twinbrookschoolofballet.com
SUMMARY:RAD SUMMERDANCE BALLET INTENSIVE
DESCRIPTION:RAD Intermediate & Advanced Ballet (11 & Up)
URL:https://twinbrookschoolofballet.com/event/rad-summerdance-ballet-intensive-25/
LOCATION:Twinbrook School of Ballet\, 12801 Ardennes Avenue\, Rockville\, MD\, 20851\, United States
ORGANIZER;CN="The Twinbrook School of Ballet":MAILTO:peblake2@verizon.net
END:VEVENT
BEGIN:VEVENT
DTSTART;TZID=America/New_York:20180712T180000
DTEND;TZID=America/New_York:20180712T190000
DTSTAMP:20260423T170545
CREATED:20180624T233616Z
LAST-MODIFIED:20180624T233616Z
UID:213-1531418400-1531422000@twinbrookschoolofballet.com
SUMMARY:RAD SUMMERDANCE BALLET INTENSIVE
DESCRIPTION:Pointe (elementary) (M\,Th)
URL:https://twinbrookschoolofballet.com/event/rad-summerdance-ballet-intensive-24/
LOCATION:Twinbrook School of Ballet\, 12801 Ardennes Avenue\, Rockville\, MD\, 20851\, United States
ORGANIZER;CN="The Twinbrook School of Ballet":MAILTO:peblake2@verizon.net
END:VEVENT
BEGIN:VEVENT
DTSTART;TZID=America/New_York:20180712T170000
DTEND;TZID=America/New_York:20180712T180000
DTSTAMP:20260423T170545
CREATED:20180624T233421Z
LAST-MODIFIED:20180624T233421Z
UID:211-1531414800-1531418400@twinbrookschoolofballet.com
SUMMARY:RAD SUMMERDANCE BALLET INTENSIVE
DESCRIPTION:RAD Grade One (ballet\, character) (7 & up)
URL:https://twinbrookschoolofballet.com/event/rad-summerdance-ballet-intensive-23/
LOCATION:Twinbrook School of Ballet\, 12801 Ardennes Avenue\, Rockville\, MD\, 20851\, United States
ORGANIZER;CN="The Twinbrook School of Ballet":MAILTO:peblake2@verizon.net
END:VEVENT
BEGIN:VEVENT
DTSTART;TZID=America/New_York:20180711T190000
DTEND;TZID=America/New_York:20180711T203000
DTSTAMP:20260423T170545
CREATED:20180624T213157Z
LAST-MODIFIED:20180624T213157Z
UID:187-1531335600-1531341000@twinbrookschoolofballet.com
SUMMARY:RAD SUMMERDANCE BALLET INTENSIVE
DESCRIPTION:RAD Intermediate & Advanced Ballet (11 & Up)
URL:https://twinbrookschoolofballet.com/event/rad-summerdance-ballet-intensive-13/
LOCATION:Twinbrook School of Ballet\, 12801 Ardennes Avenue\, Rockville\, MD\, 20851\, United States
ORGANIZER;CN="The Twinbrook School of Ballet":MAILTO:peblake2@verizon.net
END:VEVENT
BEGIN:VEVENT
DTSTART;TZID=America/New_York:20180711T180000
DTEND;TZID=America/New_York:20180711T190000
DTSTAMP:20260423T170545
CREATED:20180624T212725Z
LAST-MODIFIED:20180624T212725Z
UID:184-1531332000-1531335600@twinbrookschoolofballet.com
SUMMARY:RAD SUMMERDANCE BALLET INTENSIVE
DESCRIPTION:Contemporary Class (Wednesday)
URL:https://twinbrookschoolofballet.com/event/rad-summerdance-ballet-intensive-12/
LOCATION:Twinbrook School of Ballet\, 12801 Ardennes Avenue\, Rockville\, MD\, 20851\, United States
ORGANIZER;CN="The Twinbrook School of Ballet":MAILTO:peblake2@verizon.net
END:VEVENT
BEGIN:VEVENT
DTSTART;TZID=America/New_York:20180711T170000
DTEND;TZID=America/New_York:20180711T180000
DTSTAMP:20260423T170545
CREATED:20180624T193321Z
LAST-MODIFIED:20180624T212933Z
UID:162-1531328400-1531332000@twinbrookschoolofballet.com
SUMMARY:RAD SUMMERDANCE BALLET INTENSIVE
DESCRIPTION:RAD Grade One (ballet\, character) (7 & up)
URL:https://twinbrookschoolofballet.com/event/rad-summerdance-ballet-intensive-4/
LOCATION:Twinbrook School of Ballet\, 12801 Ardennes Avenue\, Rockville\, MD\, 20851\, United States
ORGANIZER;CN="The Twinbrook School of Ballet":MAILTO:peblake2@verizon.net
END:VEVENT
BEGIN:VEVENT
DTSTART;TZID=America/New_York:20180709T190000
DTEND;TZID=America/New_York:20180709T203000
DTSTAMP:20260423T170545
CREATED:20180624T232821Z
LAST-MODIFIED:20180624T232821Z
UID:207-1531162800-1531168200@twinbrookschoolofballet.com
SUMMARY:RAD SUMMERDANCE BALLET INTENSIVE
DESCRIPTION:RAD Intermediate & Advanced Ballet (11 & Up)
URL:https://twinbrookschoolofballet.com/event/rad-summerdance-ballet-intensive-22/
LOCATION:Twinbrook School of Ballet\, 12801 Ardennes Avenue\, Rockville\, MD\, 20851\, United States
ORGANIZER;CN="The Twinbrook School of Ballet":MAILTO:peblake2@verizon.net
END:VEVENT
BEGIN:VEVENT
DTSTART;TZID=America/New_York:20180709T180000
DTEND;TZID=America/New_York:20180709T190000
DTSTAMP:20260423T170545
CREATED:20180624T232540Z
LAST-MODIFIED:20180624T232540Z
UID:205-1531159200-1531162800@twinbrookschoolofballet.com
SUMMARY:RAD SUMMERDANCE BALLET INTENSIVE
DESCRIPTION:Pointe (elementary) (M\,Th)
URL:https://twinbrookschoolofballet.com/event/rad-summerdance-ballet-intensive-21/
LOCATION:Twinbrook School of Ballet\, 12801 Ardennes Avenue\, Rockville\, MD\, 20851\, United States
ORGANIZER;CN="The Twinbrook School of Ballet":MAILTO:peblake2@verizon.net
END:VEVENT
BEGIN:VEVENT
DTSTART;TZID=America/New_York:20180709T170000
DTEND;TZID=America/New_York:20180709T180000
DTSTAMP:20260423T170545
CREATED:20180624T232354Z
LAST-MODIFIED:20180624T232354Z
UID:203-1531155600-1531159200@twinbrookschoolofballet.com
SUMMARY:RAD SUMMERDANCE BALLET INTENSIVE
DESCRIPTION:RAD Grade One (ballet\, character) (7 & up)
URL:https://twinbrookschoolofballet.com/event/rad-summerdance-ballet-intensive-20/
LOCATION:Twinbrook School of Ballet\, 12801 Ardennes Avenue\, Rockville\, MD\, 20851\, United States
ORGANIZER;CN="The Twinbrook School of Ballet":MAILTO:peblake2@verizon.net
END:VEVENT
BEGIN:VEVENT
DTSTART;TZID=America/New_York:20180705T190000
DTEND;TZID=America/New_York:20180705T203000
DTSTAMP:20260423T170545
CREATED:20180624T231439Z
LAST-MODIFIED:20180624T231439Z
UID:201-1530817200-1530822600@twinbrookschoolofballet.com
SUMMARY:RAD SUMMERDANCE BALLET INTENSIVE
DESCRIPTION:RAD Intermediate & Advanced Ballet (11 & Up)
URL:https://twinbrookschoolofballet.com/event/rad-summerdance-ballet-intensive-19/
LOCATION:Twinbrook School of Ballet\, 12801 Ardennes Avenue\, Rockville\, MD\, 20851\, United States
ORGANIZER;CN="The Twinbrook School of Ballet":MAILTO:peblake2@verizon.net
END:VEVENT
BEGIN:VEVENT
DTSTART;TZID=America/New_York:20180705T180000
DTEND;TZID=America/New_York:20180705T190000
DTSTAMP:20260423T170545
CREATED:20180624T231308Z
LAST-MODIFIED:20180624T231308Z
UID:199-1530813600-1530817200@twinbrookschoolofballet.com
SUMMARY:RAD SUMMERDANCE BALLET INTENSIVE
DESCRIPTION:Pointe (elementary) (M\,Th)
URL:https://twinbrookschoolofballet.com/event/rad-summerdance-ballet-intensive-18/
LOCATION:Twinbrook School of Ballet\, 12801 Ardennes Avenue\, Rockville\, MD\, 20851\, United States
ORGANIZER;CN="The Twinbrook School of Ballet":MAILTO:peblake2@verizon.net
END:VEVENT
BEGIN:VEVENT
DTSTART;TZID=America/New_York:20180705T170000
DTEND;TZID=America/New_York:20180705T180000
DTSTAMP:20260423T170545
CREATED:20180624T231131Z
LAST-MODIFIED:20180624T231131Z
UID:197-1530810000-1530813600@twinbrookschoolofballet.com
SUMMARY:RAD SUMMERDANCE BALLET INTENSIVE
DESCRIPTION:RAD Grade One (ballet\, character) (7 & up)
URL:https://twinbrookschoolofballet.com/event/rad-summerdance-ballet-intensive-17/
LOCATION:Twinbrook School of Ballet\, 12801 Ardennes Avenue\, Rockville\, MD\, 20851\, United States
ORGANIZER;CN="The Twinbrook School of Ballet":MAILTO:peblake2@verizon.net
END:VEVENT
BEGIN:VEVENT
DTSTART;TZID=America/New_York:20180704T080000
DTEND;TZID=America/New_York:20180704T170000
DTSTAMP:20260423T170545
CREATED:20180624T210948Z
LAST-MODIFIED:20180624T210948Z
UID:180-1530691200-1530723600@twinbrookschoolofballet.com
SUMMARY:No Classes
DESCRIPTION:4th of July — NO CLASSES
URL:https://twinbrookschoolofballet.com/event/no-classes/
LOCATION:MD
END:VEVENT
BEGIN:VEVENT
DTSTART;TZID=America/New_York:20180702T190000
DTEND;TZID=America/New_York:20180702T203000
DTSTAMP:20260423T170545
CREATED:20180624T213753Z
LAST-MODIFIED:20180624T213753Z
UID:193-1530558000-1530563400@twinbrookschoolofballet.com
SUMMARY:RAD SUMMERDANCE BALLET INTENSIVE
DESCRIPTION:RAD Intermediate & Advanced Ballet (11 & Up)
URL:https://twinbrookschoolofballet.com/event/rad-summerdance-ballet-intensive-16/
LOCATION:Twinbrook School of Ballet\, 12801 Ardennes Avenue\, Rockville\, MD\, 20851\, United States
ORGANIZER;CN="The Twinbrook School of Ballet":MAILTO:peblake2@verizon.net
END:VEVENT
BEGIN:VEVENT
DTSTART;TZID=America/New_York:20180702T180000
DTEND;TZID=America/New_York:20180702T190000
DTSTAMP:20260423T170545
CREATED:20180624T213603Z
LAST-MODIFIED:20180624T213603Z
UID:191-1530554400-1530558000@twinbrookschoolofballet.com
SUMMARY:RAD SUMMERDANCE BALLET INTENSIVE
DESCRIPTION:Pointe (elementary) (M\,Th)
URL:https://twinbrookschoolofballet.com/event/rad-summerdance-ballet-intensive-15/
LOCATION:Twinbrook School of Ballet\, 12801 Ardennes Avenue\, Rockville\, MD\, 20851\, United States
ORGANIZER;CN="The Twinbrook School of Ballet":MAILTO:peblake2@verizon.net
END:VEVENT
BEGIN:VEVENT
DTSTART;TZID=America/New_York:20180702T170000
DTEND;TZID=America/New_York:20180702T180000
DTSTAMP:20260423T170545
CREATED:20180624T213418Z
LAST-MODIFIED:20180624T213418Z
UID:189-1530550800-1530554400@twinbrookschoolofballet.com
SUMMARY:RAD SUMMERDANCE BALLET INTENSIVE
DESCRIPTION:RAD Grade One (ballet\, character) (7 & up)
URL:https://twinbrookschoolofballet.com/event/rad-summerdance-ballet-intensive-14/
LOCATION:Twinbrook School of Ballet\, 12801 Ardennes Avenue\, Rockville\, MD\, 20851\, United States
ORGANIZER;CN="The Twinbrook School of Ballet":MAILTO:peblake2@verizon.net
END:VEVENT
BEGIN:VEVENT
DTSTART;TZID=America/New_York:20180628T190000
DTEND;TZID=America/New_York:20180628T203000
DTSTAMP:20260423T170545
CREATED:20180624T210018Z
LAST-MODIFIED:20180624T210018Z
UID:178-1530212400-1530217800@twinbrookschoolofballet.com
SUMMARY:RAD SUMMERDANCE BALLET INTENSIVE
DESCRIPTION:RAD Intermediate & Advanced Ballet (11 & Up)
URL:https://twinbrookschoolofballet.com/event/rad-summerdance-ballet-intensive-11/
LOCATION:Twinbrook School of Ballet\, 12801 Ardennes Avenue\, Rockville\, MD\, 20851\, United States
ORGANIZER;CN="The Twinbrook School of Ballet":MAILTO:peblake2@verizon.net
END:VEVENT
BEGIN:VEVENT
DTSTART;TZID=America/New_York:20180628T180000
DTEND;TZID=America/New_York:20180628T190000
DTSTAMP:20260423T170545
CREATED:20180624T205720Z
LAST-MODIFIED:20180624T205720Z
UID:176-1530208800-1530212400@twinbrookschoolofballet.com
SUMMARY:RAD SUMMERDANCE BALLET INTENSIVE
DESCRIPTION:Pointe (elementary) (M\,Th)
URL:https://twinbrookschoolofballet.com/event/rad-summerdance-ballet-intensive-10/
LOCATION:Twinbrook School of Ballet\, 12801 Ardennes Avenue\, Rockville\, MD\, 20851\, United States
ORGANIZER;CN="The Twinbrook School of Ballet":MAILTO:peblake2@verizon.net
END:VEVENT
BEGIN:VEVENT
DTSTART;TZID=America/New_York:20180628T170000
DTEND;TZID=America/New_York:20180628T180000
DTSTAMP:20260423T170545
CREATED:20180624T194319Z
LAST-MODIFIED:20180624T194319Z
UID:168-1530205200-1530208800@twinbrookschoolofballet.com
SUMMARY:RAD SUMMERDANCE BALLET INTENSIVE
DESCRIPTION:RAD Grade One (ballet\, character) (7 & up)
URL:https://twinbrookschoolofballet.com/event/rad-summerdance-ballet-intensive-7/
LOCATION:Twinbrook School of Ballet\, 12801 Ardennes Avenue\, Rockville\, MD\, 20851\, United States
ORGANIZER;CN="The Twinbrook School of Ballet":MAILTO:peblake2@verizon.net
END:VEVENT
BEGIN:VEVENT
DTSTART;TZID=America/New_York:20180627T190000
DTEND;TZID=America/New_York:20180627T203000
DTSTAMP:20260423T170545
CREATED:20180624T205434Z
LAST-MODIFIED:20180624T205434Z
UID:174-1530126000-1530131400@twinbrookschoolofballet.com
SUMMARY:RAD SUMMERDANCE BALLET INTENSIVE
DESCRIPTION:RAD Intermediate & Advanced Students
URL:https://twinbrookschoolofballet.com/event/rad-summerdance-ballet-intensive-9/
LOCATION:Twinbrook School of Ballet\, 12801 Ardennes Avenue\, Rockville\, MD\, 20851\, United States
ORGANIZER;CN="The Twinbrook School of Ballet":MAILTO:peblake2@verizon.net
END:VEVENT
BEGIN:VEVENT
DTSTART;TZID=America/New_York:20180627T180000
DTEND;TZID=America/New_York:20180627T190000
DTSTAMP:20260423T170545
CREATED:20180623T200739Z
LAST-MODIFIED:20180623T200739Z
UID:159-1530122400-1530126000@twinbrookschoolofballet.com
SUMMARY:RAD SUMMERDANCE BALLET INTENSIVE
DESCRIPTION:Contemporary Class (W)
URL:https://twinbrookschoolofballet.com/event/rad-summerdance-ballet-intensive-3/
LOCATION:Twinbrook School of Ballet\, 12801 Ardennes Avenue\, Rockville\, MD\, 20851\, United States
ORGANIZER;CN="The Twinbrook School of Ballet":MAILTO:peblake2@verizon.net
END:VEVENT
BEGIN:VEVENT
DTSTART;TZID=America/New_York:20180627T170000
DTEND;TZID=America/New_York:20180627T180000
DTSTAMP:20260423T170545
CREATED:20180624T194019Z
LAST-MODIFIED:20180624T194019Z
UID:166-1530118800-1530122400@twinbrookschoolofballet.com
SUMMARY:RAD SUMMERDANCE BALLET INTENSIVE
DESCRIPTION:RAD Grade One (ballet\, character) (7 & up)
URL:https://twinbrookschoolofballet.com/event/rad-summerdance-ballet-intensive-6/
LOCATION:Twinbrook School of Ballet\, 12801 Ardennes Avenue\, Rockville\, MD\, 20851\, United States
ORGANIZER;CN="The Twinbrook School of Ballet":MAILTO:peblake2@verizon.net
END:VEVENT
BEGIN:VEVENT
DTSTART;TZID=America/New_York:20180625T190000
DTEND;TZID=America/New_York:20180625T203000
DTSTAMP:20260423T170545
CREATED:20180623T195755Z
LAST-MODIFIED:20180624T200800Z
UID:152-1529953200-1529958600@twinbrookschoolofballet.com
SUMMARY:RAD SUMMERDANCE BALLET INTENSIVE
DESCRIPTION:RAD Intermediate & Advanced Students
URL:https://twinbrookschoolofballet.com/event/rad-summerdance-ballet-intensive/
LOCATION:Twinbrook School of Ballet\, 12801 Ardennes Avenue\, Rockville\, MD\, 20851\, United States
ORGANIZER;CN="The Twinbrook School of Ballet":MAILTO:peblake2@verizon.net
END:VEVENT
BEGIN:VEVENT
DTSTART;TZID=America/New_York:20180625T180000
DTEND;TZID=America/New_York:20180625T190000
DTSTAMP:20260423T170545
CREATED:20180623T200041Z
LAST-MODIFIED:20180624T200619Z
UID:157-1529949600-1529953200@twinbrookschoolofballet.com
SUMMARY:RAD SUMMERDANCE BALLET INTENSIVE
DESCRIPTION:Pointe (elementary) (M\, Th)
URL:https://twinbrookschoolofballet.com/event/rad-summerdance-ballet-intensive-2/
LOCATION:Twinbrook School of Ballet\, 12801 Ardennes Avenue\, Rockville\, MD\, 20851\, United States
ORGANIZER;CN="The Twinbrook School of Ballet":MAILTO:peblake2@verizon.net
END:VEVENT
BEGIN:VEVENT
DTSTART;TZID=America/New_York:20180625T170000
DTEND;TZID=America/New_York:20180625T180000
DTSTAMP:20260423T170545
CREATED:20180624T200501Z
LAST-MODIFIED:20180624T200501Z
UID:155-1529946000-1529949600@twinbrookschoolofballet.com
SUMMARY:RAD SUMMERDANCE BALLET INTENSIVE
DESCRIPTION:RAD Grade One (ballet\, character) (7 & Up)
URL:https://twinbrookschoolofballet.com/event/rad-summerdance-ballet-intensive-8/
LOCATION:Twinbrook School of Ballet\, 12801 Ardennes Avenue\, Rockville\, MD\, 20851\, United States
ORGANIZER;CN="The Twinbrook School of Ballet":MAILTO:peblake2@verizon.net
END:VEVENT
BEGIN:VEVENT
DTSTART;TZID=America/New_York:20170711T190000
DTEND;TZID=America/New_York:20170711T203000
DTSTAMP:20260423T170545
CREATED:20170501T041835Z
LAST-MODIFIED:20170501T041835Z
UID:131-1499799600-1499805000@twinbrookschoolofballet.com
SUMMARY:SUMMER BALLET INTENSIVE (3 WEEKS)
DESCRIPTION:SUMMER BALLET INTENSIVE (3 WEEKS)\nFOR INTERMEDIATE THROUGH ADVANCED STUDENTS\nTUESDAYS\, WEDNESDAYS AND THURSDAYS\nBALLET—–POINTE—–CHARACTER—–VARIATIONS\n07/03/2017–07/23/17
URL:https://twinbrookschoolofballet.com/event/summer-ballet-intensive-3-weeks-3/
LOCATION:MD
END:VEVENT
BEGIN:VEVENT
DTSTART;TZID=America/New_York:20170705T190000
DTEND;TZID=America/New_York:20170705T203000
DTSTAMP:20260423T170545
CREATED:20170501T041135Z
LAST-MODIFIED:20170501T041135Z
UID:129-1499281200-1499286600@twinbrookschoolofballet.com
SUMMARY:SUMMER BALLET INTENSIVE (3 WEEKS)
DESCRIPTION:SUMMER bALLET INTENSIVE (3 WEEKS)\nFOR INTERMEDIATE THROUGH ADVANCED STUDENTS\nTUESDAYS\, WEDNESDAYS AND THURSDAYS\nBALLET—–POINTE—–CHARACTER—–VARIATIONS\n07/03/2017–07/23/17
URL:https://twinbrookschoolofballet.com/event/summer-ballet-intensive-3-weeks-2/
LOCATION:MD
END:VEVENT
BEGIN:VEVENT
DTSTART;TZID=America/New_York:20170703T203000
DTEND;TZID=America/New_York:20170703T213000
DTSTAMP:20260423T170545
CREATED:20170501T022647Z
LAST-MODIFIED:20170501T022647Z
UID:127-1499113800-1499117400@twinbrookschoolofballet.com
SUMMARY:RAD Pointe for Intermediate Advanced students
DESCRIPTION:RAD Pointe for Intermediate Advanced students\nstudents 11 and up
URL:https://twinbrookschoolofballet.com/event/rad-pointe-for-intermediate-advanced-students/
LOCATION:MD
END:VEVENT
BEGIN:VEVENT
DTSTART;TZID=America/New_York:20170703T190000
DTEND;TZID=America/New_York:20170703T203000
DTSTAMP:20260423T170545
CREATED:20161015T190845Z
LAST-MODIFIED:20170501T020342Z
UID:103-1499108400-1499113800@twinbrookschoolofballet.com
SUMMARY:RAD SUMMERDANCE BALLET INTENSIVE (3 WEEKS)
DESCRIPTION:SUMMER BALLET INTENSIVE (3 WEEKS)\nRAD Pre-INTERMEDIATE\nTUESDAYS\, WEDNESDAYS AND THURSDAYS\n07/03/2017 thru 07/23/17
URL:https://twinbrookschoolofballet.com/event/summer-ballet-intensive-3-weeks/
LOCATION:MD
END:VEVENT
BEGIN:VEVENT
DTSTART;TZID=America/New_York:20170605T200000
DTEND;TZID=America/New_York:20170605T213000
DTSTAMP:20260423T170545
CREATED:20170501T021326Z
LAST-MODIFIED:20170501T021346Z
UID:120-1496692800-1496698200@twinbrookschoolofballet.com
SUMMARY:Annual Ballet Program--"A Ballet Soiree"
DESCRIPTION:The Twinbrook School of Ballet presents it’s annual ballet program titled “A Ballet Soiree” on June 5\, 2017 at 8:00 p.m. at the Kruger Theater (Bender Jewish Community Center of Greater Washington).
URL:https://twinbrookschoolofballet.com/event/annual-ballet-program-a-ballet-soiree/
LOCATION:Kruger Theater (Bender Jewish Community Center of Greater Washington\, 6125 Montrose Rd\, Rockville\, MD\, 20852\, United States
ORGANIZER;CN="The Twinbrook School of Ballet":MAILTO:peblake2@verizon.net
END:VEVENT
END:VCALENDAR